BEGIN:VCALENDAR
VERSION:2.0
PRODID:-//wp-events-plugin.com//7.2.3.1//EN
TZID:America/New_York
X-WR-TIMEZONE:America/New_York
BEGIN:VEVENT
UID:148@pbslds.org
DTSTART;TZID=America/New_York:20160228T140000
DTEND;TZID=America/New_York:20160228T160000
DTSTAMP:20160224T025624Z
URL:https://pbslds.org/events/zumba-with-the-zeta/
SUMMARY:Zumba with the Zetas
DESCRIPTION:
CATEGORIES:EPZ Events
LOCATION:Little Stars Dance Studio\, 302 Fox Hunt Drive\, Bear\, DE\, 19701
 \, United States
GEO:39.6068761;-75.71013289999996
X-APPLE-STRUCTURED-LOCATION;VALUE=URI;X-ADDRESS=302 Fox Hunt Drive\, Bear\,
  DE\, 19701\, United States;X-APPLE-RADIUS=100;X-TITLE=Little Stars Dance 
 Studio:geo:39.6068761,-75.71013289999996
END:VEVENT
BEGIN:VTIMEZONE
TZID:America/New_York
X-LIC-LOCATION:America/New_York
BEGIN:STANDARD
DTSTART:20151101T010000
TZOFFSETFROM:-0400
TZOFFSETTO:-0500
TZNAME:EST
END:STANDARD
END:VTIMEZONE
END:VCALENDAR