BEGIN:VCALENDAR
VERSION:2.0
PRODID:-//wp-events-plugin.com//7.2.3.1//EN
TZID:America/New_York
X-WR-TIMEZONE:America/New_York
BEGIN:VEVENT
UID:818@pbslds.org
DTSTART;TZID=America/New_York:20251217T103000
DTEND;TZID=America/New_York:20251217T220000
DTSTAMP:20251211T164108Z
URL:https://pbslds.org/events/zetacan-shake-shake-donation-day/
SUMMARY:ZetaCan-Shake Shack Donation Day
DESCRIPTION:
CATEGORIES:EPZ Events
LOCATION:Shake Shack\, Fashion Center Blvd\, Newark\, DE\, 19702\, United S
 tates
GEO:39.671394;-75.648142
X-APPLE-STRUCTURED-LOCATION;VALUE=URI;X-ADDRESS=Fashion Center Blvd\, Newar
 k\, DE\, 19702\, United States;X-APPLE-RADIUS=100;X-TITLE=Shake Shack:geo:
 39.671394,-75.648142
END:VEVENT
BEGIN:VTIMEZONE
TZID:America/New_York
X-LIC-LOCATION:America/New_York
BEGIN:STANDARD
DTSTART:20251102T010000
TZOFFSETFROM:-0400
TZOFFSETTO:-0500
TZNAME:EST
END:STANDARD
END:VTIMEZONE
END:VCALENDAR