BEGIN:VCALENDAR
VERSION:2.0
PRODID:-//wp-events-plugin.com//7.2.3.1//EN
TZID:America/New_York
X-WR-TIMEZONE:America/New_York
BEGIN:VEVENT
UID:492@pbslds.org
DTSTART;TZID=America/New_York:20221112T190000
DTEND;TZID=America/New_York:20221112T230000
DTSTAMP:20220909T220023Z
URL:https://pbslds.org/events/zeta-sigma-chapter-baltimore-centennial-gala
 /
SUMMARY:Zeta Sigma Chapter (Baltimore) Centennial Gala
DESCRIPTION:CLICK FLYER FOR TICKETS\n
CATEGORIES:PBS Eastern Region Events
LOCATION:Hyatt Regency Hotel\, 300 Light Street\, Baltimore\, MD\, 21202\, 
 United States
GEO:39.2851556;-76.6140638
X-APPLE-STRUCTURED-LOCATION;VALUE=URI;X-ADDRESS=300 Light Street\, Baltimor
 e\, MD\, 21202\, United States;X-APPLE-RADIUS=100;X-TITLE=Hyatt Regency Ho
 tel:geo:39.2851556,-76.6140638
END:VEVENT
BEGIN:VTIMEZONE
TZID:America/New_York
X-LIC-LOCATION:America/New_York
BEGIN:STANDARD
DTSTART:20221106T010000
TZOFFSETFROM:-0400
TZOFFSETTO:-0500
TZNAME:EST
END:STANDARD
END:VTIMEZONE
END:VCALENDAR