BEGIN:VCALENDAR
VERSION:2.0
PRODID:-//wp-events-plugin.com//7.2.3.1//EN
TZID:America/New_York
X-WR-TIMEZONE:America/New_York
BEGIN:VEVENT
UID:86@pbslds.org
DTSTART;TZID=America/New_York;VALUE=DATE:20240116
DTEND;TZID=America/New_York;VALUE=DATE:20240117
DTSTAMP:20160119T012838Z
URL:https://pbslds.org/events/zeta-phi-beta-sorority-inc-founders-day-2024
 -01-16/
SUMMARY:Zeta Phi Beta Sorority\, Inc. Founder’s Day
DESCRIPTION:
CATEGORIES:Events
END:VEVENT
BEGIN:VTIMEZONE
TZID:America/New_York
X-LIC-LOCATION:America/New_York
BEGIN:STANDARD
DTSTART:20231105T010000
TZOFFSETFROM:-0400
TZOFFSETTO:-0500
TZNAME:EST
END:STANDARD
END:VTIMEZONE
END:VCALENDAR