BEGIN:VCALENDAR
VERSION:2.0
PRODID:-//wp-events-plugin.com//7.2.3.1//EN
TZID:America/New_York
X-WR-TIMEZONE:America/New_York
BEGIN:VEVENT
UID:524@pbslds.org
DTSTART;TZID=America/New_York:20230116T163000
DTEND;TZID=America/New_York:20230116T200000
DTSTAMP:20230116T040847Z
URL:https://pbslds.org/events/zeta-phi-beta-epz-founders-day-happy-hour/
SUMMARY:Zeta Phi Beta (EPZ) Founders' Day Happy Hour
DESCRIPTION:
CATEGORIES:EPZ Events
LOCATION:Crab du Jour\, 1000 Churchmans Rd\, Newark\, DE\, 19713\, United S
 tates
X-APPLE-STRUCTURED-LOCATION;VALUE=URI;X-ADDRESS=1000 Churchmans Rd\, Newark
 \, DE\, 19713\, United States;X-APPLE-RADIUS=100;X-TITLE=Crab du Jour:geo:
 0,0
END:VEVENT
BEGIN:VTIMEZONE
TZID:America/New_York
X-LIC-LOCATION:America/New_York
BEGIN:STANDARD
DTSTART:20221106T010000
TZOFFSETFROM:-0400
TZOFFSETTO:-0500
TZNAME:EST
END:STANDARD
END:VTIMEZONE
END:VCALENDAR