BEGIN:VCALENDAR
VERSION:2.0
PRODID:-//wp-events-plugin.com//7.2.3.1//EN
TZID:America/New_York
X-WR-TIMEZONE:America/New_York
BEGIN:VEVENT
UID:679@pbslds.org
DTSTART;TZID=America/New_York:20240116T160000
DTEND;TZID=America/New_York:20240116T200000
DTSTAMP:20240113T194931Z
URL:https://pbslds.org/events/zeta-epz-founders-day-pop-up/
SUMMARY:Zeta (EPZ) Founders' Day Pop-Up
DESCRIPTION:
CATEGORIES:EPZ Events
LOCATION:Bahama Breeze Newark\, 500 Center Blvd S\, Newark\, DE\, 19702\, U
 nited States
GEO:39.67549;-75.650221
X-APPLE-STRUCTURED-LOCATION;VALUE=URI;X-ADDRESS=500 Center Blvd S\, Newark\
 , DE\, 19702\, United States;X-APPLE-RADIUS=100;X-TITLE=Bahama Breeze Newa
 rk:geo:39.67549,-75.650221
END:VEVENT
BEGIN:VTIMEZONE
TZID:America/New_York
X-LIC-LOCATION:America/New_York
BEGIN:STANDARD
DTSTART:20231105T010000
TZOFFSETFROM:-0400
TZOFFSETTO:-0500
TZNAME:EST
END:STANDARD
END:VTIMEZONE
END:VCALENDAR