BEGIN:VCALENDAR
VERSION:2.0
PRODID:-//wp-events-plugin.com//7.2.3.1//EN
TZID:America/New_York
X-WR-TIMEZONE:America/New_York
BEGIN:VEVENT
UID:610@pbslds.org
DTSTART;TZID=America/New_York:20230909T140000
DTEND;TZID=America/New_York:20230909T160000
DTSTAMP:20230820T004742Z
URL:https://pbslds.org/events/zeta-can-duck-derby/
SUMMARY:Zeta CAN (EPZ) Duck Derby Fundraiser
DESCRIPTION:Please consider supporting by purchasing a duck to race!\n\nPay
 Pal Link ($10 Per Duck)\n\n
CATEGORIES:EPZ Events
LOCATION:Western Family YMCA\, 2600 Capitol Trail\, Newark\, DE\, 19711\, U
 nited States
X-APPLE-STRUCTURED-LOCATION;VALUE=URI;X-ADDRESS=2600 Capitol Trail\, Newark
 \, DE\, 19711\, United States;X-APPLE-RADIUS=100;X-TITLE=Western Family YM
 CA:geo:0,0
END:VEVENT
BEGIN:VTIMEZONE
TZID:America/New_York
X-LIC-LOCATION:America/New_York
BEGIN:DAYLIGHT
DTSTART:20230312T030000
TZOFFSETFROM:-0500
TZOFFSETTO:-0400
TZNAME:EDT
END:DAYLIGHT
END:VTIMEZONE
END:VCALENDAR