BEGIN:VCALENDAR
VERSION:2.0
PRODID:-//wp-events-plugin.com//7.2.3.1//EN
TZID:America/New_York
X-WR-TIMEZONE:America/New_York
BEGIN:VEVENT
UID:501@pbslds.org
DTSTART;TZID=America/New_York:20221117T163000
DTEND;TZID=America/New_York:20221117T180000
DTSTAMP:20221114T192949Z
URL:https://pbslds.org/events/world-prematurity-awareness-day-blue-and-whi
 te-gathering/
SUMMARY:World Prematurity Awareness Day (Blue and White Gathering)
DESCRIPTION:
CATEGORIES:Delaware Events
LOCATION:Delaware Legislative Hall\, 411 Legislative Ave\, Dover\, DE\, 199
 01\, United States
X-APPLE-STRUCTURED-LOCATION;VALUE=URI;X-ADDRESS=411 Legislative Ave\, Dover
 \, DE\, 19901\, United States;X-APPLE-RADIUS=100;X-TITLE=Delaware Legislat
 ive Hall:geo:0,0
END:VEVENT
BEGIN:VTIMEZONE
TZID:America/New_York
X-LIC-LOCATION:America/New_York
BEGIN:STANDARD
DTSTART:20221106T010000
TZOFFSETFROM:-0400
TZOFFSETTO:-0500
TZNAME:EST
END:STANDARD
END:VTIMEZONE
END:VCALENDAR