BEGIN:VCALENDAR
VERSION:2.0
PRODID:-//wp-events-plugin.com//7.2.3.1//EN
TZID:America/New_York
X-WR-TIMEZONE:America/New_York
BEGIN:VEVENT
UID:488@pbslds.org
DTSTART;TZID=America/New_York:20221001T090000
DTEND;TZID=America/New_York:20221001T120000
DTSTAMP:20220905T160624Z
URL:https://pbslds.org/events/wilmington-deltas-scholarship-prayer-breakfa
 st/
SUMMARY:Wilmington Deltas Scholarship Prayer Breakfast
DESCRIPTION:Click the image for Tickets\n
CATEGORIES:Delaware Events
LOCATION:Chase Center at the Riverfront\, 815 Justison Stret\, Wilmington\,
  DE\, 19801\, United States
X-APPLE-STRUCTURED-LOCATION;VALUE=URI;X-ADDRESS=815 Justison Stret\, Wilmin
 gton\, DE\, 19801\, United States;X-APPLE-RADIUS=100;X-TITLE=Chase Center 
 at the Riverfront:geo:0,0
END:VEVENT
BEGIN:VTIMEZONE
TZID:America/New_York
X-LIC-LOCATION:America/New_York
BEGIN:DAYLIGHT
DTSTART:20220313T030000
TZOFFSETFROM:-0500
TZOFFSETTO:-0400
TZNAME:EDT
END:DAYLIGHT
END:VTIMEZONE
END:VCALENDAR