BEGIN:VCALENDAR
VERSION:2.0
PRODID:-//wp-events-plugin.com//7.2.3.1//EN
TZID:America/New_York
X-WR-TIMEZONE:America/New_York
BEGIN:VEVENT
UID:676@pbslds.org
DTSTART;TZID=America/New_York:20240203T120000
DTEND;TZID=America/New_York:20240203T140000
DTSTAMP:20231229T193159Z
URL:https://pbslds.org/events/wilmington-deltas-founders-celebration/
SUMMARY:Wilmington Deltas Founders' Celebration
DESCRIPTION:
CATEGORIES:NPHC Events
LOCATION:Chase Center at the Riverfront\, 815 Justison Stret\, Wilmington\,
  DE\, 19801\, United States
X-APPLE-STRUCTURED-LOCATION;VALUE=URI;X-ADDRESS=815 Justison Stret\, Wilmin
 gton\, DE\, 19801\, United States;X-APPLE-RADIUS=100;X-TITLE=Chase Center 
 at the Riverfront:geo:0,0
END:VEVENT
BEGIN:VTIMEZONE
TZID:America/New_York
X-LIC-LOCATION:America/New_York
BEGIN:STANDARD
DTSTART:20231105T010000
TZOFFSETFROM:-0400
TZOFFSETTO:-0500
TZNAME:EST
END:STANDARD
END:VTIMEZONE
END:VCALENDAR