BEGIN:VCALENDAR
VERSION:2.0
PRODID:-//wp-events-plugin.com//7.2.3.1//EN
TZID:America/New_York
X-WR-TIMEZONE:America/New_York
BEGIN:VEVENT
UID:543@pbslds.org
DTSTART;TZID=America/New_York:20230422T083000
DTEND;TZID=America/New_York:20230422T113000
DTSTAMP:20230417T232502Z
URL:https://pbslds.org/events/wilmington-community-clean-up-day/
SUMMARY:Wilmington Community Clean-Up Day
DESCRIPTION:\n\nPlease come out to support this NPHC initiative. The meetin
 g point is the Adams Four Shopping Center\, and the location of the clean-
 up would be 2nd to 4th Streets on Jefferson\, Madison and Monroe.
CATEGORIES:NPHC Events
LOCATION:Adams Four Shopping Center\, 800 West Fourth Street\, Wilmington\,
  DE\, 19801\, United States
X-APPLE-STRUCTURED-LOCATION;VALUE=URI;X-ADDRESS=800 West Fourth Street\, Wi
 lmington\, DE\, 19801\, United States;X-APPLE-RADIUS=100;X-TITLE=Adams Fou
 r Shopping Center:geo:0,0
END:VEVENT
BEGIN:VTIMEZONE
TZID:America/New_York
X-LIC-LOCATION:America/New_York
BEGIN:DAYLIGHT
DTSTART:20230312T030000
TZOFFSETFROM:-0500
TZOFFSETTO:-0400
TZNAME:EDT
END:DAYLIGHT
END:VTIMEZONE
END:VCALENDAR