BEGIN:VCALENDAR
VERSION:2.0
PRODID:-//wp-events-plugin.com//7.2.3.1//EN
TZID:America/New_York
X-WR-TIMEZONE:America/New_York
BEGIN:VEVENT
UID:617@pbslds.org
DTSTART;TZID=America/New_York:20231111T103000
DTEND;TZID=America/New_York:20231111T133000
DTSTAMP:20231023T120801Z
URL:https://pbslds.org/events/veterans-day-luncheon-collaboration-with-epz
 /
SUMMARY:Veterans' Day Luncheon (Collaboration with EPZ)
DESCRIPTION:
CATEGORIES:EPZ Events,LDS Events
LOCATION:Applebee's\, 900 Churchmans Road\, Newark\, DE\, 19713\, United St
 ates
GEO:39.6894577;-75.6557396
X-APPLE-STRUCTURED-LOCATION;VALUE=URI;X-ADDRESS=900 Churchmans Road\, Newar
 k\, DE\, 19713\, United States;X-APPLE-RADIUS=100;X-TITLE=Applebee's:geo:3
 9.6894577,-75.6557396
END:VEVENT
BEGIN:VTIMEZONE
TZID:America/New_York
X-LIC-LOCATION:America/New_York
BEGIN:STANDARD
DTSTART:20231105T010000
TZOFFSETFROM:-0400
TZOFFSETTO:-0500
TZNAME:EST
END:STANDARD
END:VTIMEZONE
END:VCALENDAR