BEGIN:VCALENDAR
VERSION:2.0
PRODID:-//wp-events-plugin.com//7.2.3.1//EN
TZID:America/New_York
X-WR-TIMEZONE:America/New_York
BEGIN:VEVENT
UID:689@pbslds.org
DTSTART;TZID=America/New_York:20240304T191400
DTEND;TZID=America/New_York:20240304T210000
DTSTAMP:20240302T224141Z
URL:https://pbslds.org/events/ud-sigma-week-standing-on-business/
SUMMARY:UD Sigma Week: "Standing on Business"
DESCRIPTION:Join the Brothers of Kappa Eta as they speak on Life After Coll
 ege! Bro. Shaw will be part of the panel!\n\n
CATEGORIES:KH Events
LOCATION:University of Delaware - Purnell Hall\, 42 Amstel Ave\, Newark\, D
 E\, 19716\, United States
GEO:39.68054;-75.755258
X-APPLE-STRUCTURED-LOCATION;VALUE=URI;X-ADDRESS=42 Amstel Ave\, Newark\, DE
 \, 19716\, United States;X-APPLE-RADIUS=100;X-TITLE=University of Delaware
  - Purnell Hall:geo:39.68054,-75.755258
END:VEVENT
BEGIN:VTIMEZONE
TZID:America/New_York
X-LIC-LOCATION:America/New_York
BEGIN:STANDARD
DTSTART:20231105T010000
TZOFFSETFROM:-0400
TZOFFSETTO:-0500
TZNAME:EST
END:STANDARD
END:VTIMEZONE
END:VCALENDAR