BEGIN:VCALENDAR
VERSION:2.0
PRODID:-//wp-events-plugin.com//7.2.3.1//EN
TZID:America/New_York
X-WR-TIMEZONE:America/New_York
BEGIN:VEVENT
UID:690@pbslds.org
DTSTART;TZID=America/New_York:20240305T191400
DTEND;TZID=America/New_York:20240305T210000
DTSTAMP:20240302T224307Z
URL:https://pbslds.org/events/ud-sigma-week-empowerher/
SUMMARY:UD Sigma Week: "EmpowerHer"
DESCRIPTION:
CATEGORIES:KH Events
LOCATION:University of Delaware\, Routes 4 and 896\, Newark\, DE\, 19711\, 
 United States
GEO:39.6653729;-75.77594369999997
X-APPLE-STRUCTURED-LOCATION;VALUE=URI;X-ADDRESS=Routes 4 and 896\, Newark\,
  DE\, 19711\, United States;X-APPLE-RADIUS=100;X-TITLE=University of Delaw
 are:geo:39.6653729,-75.77594369999997
END:VEVENT
BEGIN:VTIMEZONE
TZID:America/New_York
X-LIC-LOCATION:America/New_York
BEGIN:STANDARD
DTSTART:20231105T010000
TZOFFSETFROM:-0400
TZOFFSETTO:-0500
TZNAME:EST
END:STANDARD
END:VTIMEZONE
END:VCALENDAR