BEGIN:VCALENDAR
VERSION:2.0
PRODID:-//wp-events-plugin.com//7.2.3.1//EN
TZID:America/New_York
X-WR-TIMEZONE:America/New_York
BEGIN:VEVENT
UID:688@pbslds.org
DTSTART;TZID=America/New_York:20240303T110000
DTEND;TZID=America/New_York:20240303T130000
DTSTAMP:20240302T223804Z
URL:https://pbslds.org/events/ud-sigma-week-boot-khamp/
SUMMARY:UD Sigma Week: Boot KHamp
DESCRIPTION:Workout Session at the "Lil Bob"\n\n
CATEGORIES:KH Events
LOCATION:Lil Bob - University of Delaware\, Carpenter Sports Bldg\, Newark\
 , DE\, 19711\, United States
GEO:39.684223;-75.751385
X-APPLE-STRUCTURED-LOCATION;VALUE=URI;X-ADDRESS=Carpenter Sports Bldg\, New
 ark\, DE\, 19711\, United States;X-APPLE-RADIUS=100;X-TITLE=Lil Bob - Univ
 ersity of Delaware:geo:39.684223,-75.751385
END:VEVENT
BEGIN:VTIMEZONE
TZID:America/New_York
X-LIC-LOCATION:America/New_York
BEGIN:STANDARD
DTSTART:20231105T010000
TZOFFSETFROM:-0400
TZOFFSETTO:-0500
TZNAME:EST
END:STANDARD
END:VTIMEZONE
END:VCALENDAR