BEGIN:VCALENDAR
VERSION:2.0
PRODID:-//wp-events-plugin.com//7.2.3.1//EN
TZID:America/New_York
X-WR-TIMEZONE:America/New_York
BEGIN:VEVENT
UID:186@pbslds.org
DTSTART;TZID=America/New_York:20160805T170000
DTEND;TZID=America/New_York:20160805T220000
DTSTAMP:20160729T161146Z
URL:https://pbslds.org/events/tri-state-happy-hour-nj-sigmas/
SUMMARY:Tri-State Happy Hour (NJ Sigmas)
DESCRIPTION:
CATEGORIES:Events
LOCATION:The Victor’s Pub\, 1 Market Street\, Camden Waterfont\, NJ\, 081
 02\, United States
GEO:39.947313;-75.12721099999999
X-APPLE-STRUCTURED-LOCATION;VALUE=URI;X-ADDRESS=1 Market Street\, Camden Wa
 terfont\, NJ\, 08102\, United States;X-APPLE-RADIUS=100;X-TITLE=The Victor
 ’s Pub:geo:39.947313,-75.12721099999999
END:VEVENT
BEGIN:VTIMEZONE
TZID:America/New_York
X-LIC-LOCATION:America/New_York
BEGIN:DAYLIGHT
DTSTART:20160313T030000
TZOFFSETFROM:-0500
TZOFFSETTO:-0400
TZNAME:EDT
END:DAYLIGHT
END:VTIMEZONE
END:VCALENDAR