BEGIN:VCALENDAR
VERSION:2.0
PRODID:-//wp-events-plugin.com//7.2.3.1//EN
TZID:America/New_York
X-WR-TIMEZONE:America/New_York
BEGIN:VEVENT
UID:185@pbslds.org
DTSTART;TZID=America/New_York:20160722T170000
DTEND;TZID=America/New_York:20160722T200000
DTSTAMP:20160628T152031Z
URL:https://pbslds.org/events/tri-state-happy-hour-de-sigmas/
SUMMARY:Tri-State Happy Hour (DE Sigmas)
DESCRIPTION:
CATEGORIES:Events
LOCATION:Timothy's On The Riverfront\, 930 Justison Street\, Wilmington\, D
 E\, 19801\, United States
GEO:39.7295877;-75.5618427
X-APPLE-STRUCTURED-LOCATION;VALUE=URI;X-ADDRESS=930 Justison Street\, Wilmi
 ngton\, DE\, 19801\, United States;X-APPLE-RADIUS=100;X-TITLE=Timothy's On
  The Riverfront:geo:39.7295877,-75.5618427
END:VEVENT
BEGIN:VTIMEZONE
TZID:America/New_York
X-LIC-LOCATION:America/New_York
BEGIN:DAYLIGHT
DTSTART:20160313T030000
TZOFFSETFROM:-0500
TZOFFSETTO:-0400
TZNAME:EDT
END:DAYLIGHT
END:VTIMEZONE
END:VCALENDAR