BEGIN:VCALENDAR
VERSION:2.0
PRODID:-//wp-events-plugin.com//7.2.3.1//EN
TZID:America/New_York
X-WR-TIMEZONE:America/New_York
BEGIN:VEVENT
UID:487@pbslds.org
DTSTART;TZID=America/New_York:20220916T190000
DTEND;TZID=America/New_York:20220917T160000
DTSTAMP:20220829T170907Z
URL:https://pbslds.org/events/tri-state-beta-area-meeting-please-register/
SUMMARY:Tri-State "Beta" Area Meeting--PLEASE REGISTER
DESCRIPTION:Please register for this meeting immediately! Click here for th
 e letter from Brother State Director Euwings\, or click the image to regis
 ter.\n\n
CATEGORIES:Delaware Events,PBS Eastern Region Events
END:VEVENT
BEGIN:VTIMEZONE
TZID:America/New_York
X-LIC-LOCATION:America/New_York
BEGIN:DAYLIGHT
DTSTART:20220313T030000
TZOFFSETFROM:-0500
TZOFFSETTO:-0400
TZNAME:EDT
END:DAYLIGHT
END:VTIMEZONE
END:VCALENDAR