BEGIN:VCALENDAR
VERSION:2.0
PRODID:-//wp-events-plugin.com//7.2.3.1//EN
TZID:America/New_York
X-WR-TIMEZONE:America/New_York
BEGIN:VEVENT
UID:530@pbslds.org
DTSTART;TZID=America/New_York:20230318T093000
DTEND;TZID=America/New_York:20230318T123000
DTSTAMP:20230227T022518Z
URL:https://pbslds.org/events/theta-zeta-zeta-chapter-prayer-breakfast/
SUMMARY:Theta Zeta Zeta Chapter Prayer Breakfast
DESCRIPTION:
CATEGORIES:Delaware Events
LOCATION:Modern Maturity Center\, 1121 Forrest Avenue\, Dover\, DE\, 19904\
 , United States
X-APPLE-STRUCTURED-LOCATION;VALUE=URI;X-ADDRESS=1121 Forrest Avenue\, Dover
 \, DE\, 19904\, United States;X-APPLE-RADIUS=100;X-TITLE=Modern Maturity C
 enter:geo:0,0
END:VEVENT
BEGIN:VTIMEZONE
TZID:America/New_York
X-LIC-LOCATION:America/New_York
BEGIN:DAYLIGHT
DTSTART:20230312T030000
TZOFFSETFROM:-0500
TZOFFSETTO:-0400
TZNAME:EDT
END:DAYLIGHT
END:VTIMEZONE
END:VCALENDAR