BEGIN:VCALENDAR
VERSION:2.0
PRODID:-//wp-events-plugin.com//7.2.3.1//EN
TZID:America/New_York
X-WR-TIMEZONE:America/New_York
BEGIN:VEVENT
UID:495@pbslds.org
DTSTART;TZID=America/New_York:20221013T180000
DTEND;TZID=America/New_York:20221013T190000
DTSTAMP:20221003T005813Z
URL:https://pbslds.org/events/the-human-centered-principles-we-need-for-ch
 ange-malik-muhammad-keynote/
SUMMARY:The Human-Centered Principles We Need for Change (Malik Muhammad Ke
 ynote)
DESCRIPTION:Please click the flyer to RSVP.
CATEGORIES:Delaware Events
LOCATION:Wilmington Library\, 10 E. 10th St\, Wilmington\, DE\, 19801\, Uni
 ted States
X-APPLE-STRUCTURED-LOCATION;VALUE=URI;X-ADDRESS=10 E. 10th St\, Wilmington\
 , DE\, 19801\, United States;X-APPLE-RADIUS=100;X-TITLE=Wilmington Library
 :geo:0,0
END:VEVENT
BEGIN:VTIMEZONE
TZID:America/New_York
X-LIC-LOCATION:America/New_York
BEGIN:DAYLIGHT
DTSTART:20220313T030000
TZOFFSETFROM:-0500
TZOFFSETTO:-0400
TZNAME:EDT
END:DAYLIGHT
END:VTIMEZONE
END:VCALENDAR