BEGIN:VCALENDAR
VERSION:2.0
PRODID:-//wp-events-plugin.com//7.2.3.1//EN
TZID:America/New_York
X-WR-TIMEZONE:America/New_York
BEGIN:VEVENT
UID:620@pbslds.org
DTSTART;TZID=America/New_York:20231209T200000
DTEND;TZID=America/New_York:20231209T220000
DTSTAMP:20231204T154926Z
URL:https://pbslds.org/events/the-color-purple-in-collaboration-with-epz/
SUMMARY:"The Color Purple" in collaboration with EPZ
DESCRIPTION:SOLD OUT
CATEGORIES:EPZ Events,LDS Events
LOCATION:Cinemark Christiana and xD\, 1200 Christiana Mall\, Newark\, DE\, 
 19702\, United States
X-APPLE-STRUCTURED-LOCATION;VALUE=URI;X-ADDRESS=1200 Christiana Mall\, Newa
 rk\, DE\, 19702\, United States;X-APPLE-RADIUS=100;X-TITLE=Cinemark Christ
 iana and xD:geo:0,0
END:VEVENT
BEGIN:VTIMEZONE
TZID:America/New_York
X-LIC-LOCATION:America/New_York
BEGIN:STANDARD
DTSTART:20231105T010000
TZOFFSETFROM:-0400
TZOFFSETTO:-0500
TZNAME:EST
END:STANDARD
END:VTIMEZONE
END:VCALENDAR