BEGIN:VCALENDAR
VERSION:2.0
PRODID:-//wp-events-plugin.com//7.2.3.1//EN
TZID:America/New_York
X-WR-TIMEZONE:America/New_York
BEGIN:VEVENT
UID:194@pbslds.org
DTSTART;TZID=America/New_York:20170106T193000
DTEND;TZID=America/New_York:20170106T193000
DTSTAMP:20161201T002202Z
URL:https://pbslds.org/events/the-charles-i-brown-celebration-welcome-rece
 ption/
SUMMARY:The Charles I. Brown Celebration | Welcome Reception
DESCRIPTION:Horizon Rooftop Ballroom
CATEGORIES:PBS International Events
LOCATION:Sheraton Philadelphia Downtown Hotel\, 201 N 17th Street\, Philade
 lphia\, PA\, 19103\, United States
GEO:39.957287;-75.16729299999997
X-APPLE-STRUCTURED-LOCATION;VALUE=URI;X-ADDRESS=201 N 17th Street\, Philade
 lphia\, PA\, 19103\, United States;X-APPLE-RADIUS=100;X-TITLE=Sheraton Phi
 ladelphia Downtown Hotel:geo:39.957287,-75.16729299999997
END:VEVENT
BEGIN:VTIMEZONE
TZID:America/New_York
X-LIC-LOCATION:America/New_York
BEGIN:STANDARD
DTSTART:20161106T010000
TZOFFSETFROM:-0400
TZOFFSETTO:-0500
TZNAME:EST
END:STANDARD
END:VTIMEZONE
END:VCALENDAR