BEGIN:VCALENDAR
VERSION:2.0
PRODID:-//wp-events-plugin.com//7.2.3.1//EN
TZID:America/New_York
X-WR-TIMEZONE:America/New_York
BEGIN:VEVENT
UID:196@pbslds.org
DTSTART;TZID=America/New_York:20170107T113000
DTEND;TZID=America/New_York:20170107T113000
DTSTAMP:20161201T002940Z
URL:https://pbslds.org/events/the-charles-i-brown-celebration-omega-ceremo
 ny-and-monument-unveiling/
SUMMARY:The Charles I. Brown Celebration | Omega Ceremony and Monument Unve
 iling
DESCRIPTION:
CATEGORIES:PBS International Events
LOCATION:Holy Cross Cemetery\, 626 Baily Road\, Yeadon\, PA\, 19050\, Unite
 d States
GEO:39.9357088;-75.25517680000002
X-APPLE-STRUCTURED-LOCATION;VALUE=URI;X-ADDRESS=626 Baily Road\, Yeadon\, P
 A\, 19050\, United States;X-APPLE-RADIUS=100;X-TITLE=Holy Cross Cemetery:g
 eo:39.9357088,-75.25517680000002
END:VEVENT
BEGIN:VTIMEZONE
TZID:America/New_York
X-LIC-LOCATION:America/New_York
BEGIN:STANDARD
DTSTART:20161106T010000
TZOFFSETFROM:-0400
TZOFFSETTO:-0500
TZNAME:EST
END:STANDARD
END:VTIMEZONE
END:VCALENDAR