BEGIN:VCALENDAR
VERSION:2.0
PRODID:-//wp-events-plugin.com//7.2.3.1//EN
TZID:America/New_York
X-WR-TIMEZONE:America/New_York
BEGIN:VEVENT
UID:197@pbslds.org
DTSTART;TZID=America/New_York:20170107T123000
DTEND;TZID=America/New_York:20170107T123000
DTSTAMP:20161201T003242Z
URL:https://pbslds.org/events/the-charles-i-brown-celebration-dedication-o
 f-plaque-and-historical-marker/
SUMMARY:The Charles I. Brown Celebration | Dedication of Plaque and Histori
 cal Marker
DESCRIPTION:
CATEGORIES:PBS International Events
LOCATION:St. John the Evangelist Catholic Church\, 21 South 13th Street\, P
 hiladelphia\, PA\, 19107\, United States
GEO:39.9512414;-75.16127890000001
X-APPLE-STRUCTURED-LOCATION;VALUE=URI;X-ADDRESS=21 South 13th Street\, Phil
 adelphia\, PA\, 19107\, United States;X-APPLE-RADIUS=100;X-TITLE=St. John 
 the Evangelist Catholic Church:geo:39.9512414,-75.16127890000001
END:VEVENT
BEGIN:VTIMEZONE
TZID:America/New_York
X-LIC-LOCATION:America/New_York
BEGIN:STANDARD
DTSTART:20161106T010000
TZOFFSETFROM:-0400
TZOFFSETTO:-0500
TZNAME:EST
END:STANDARD
END:VTIMEZONE
END:VCALENDAR