BEGIN:VCALENDAR
VERSION:2.0
PRODID:-//wp-events-plugin.com//7.2.3.1//EN
TZID:America/New_York
X-WR-TIMEZONE:America/New_York
BEGIN:VEVENT
UID:195@pbslds.org
DTSTART;TZID=America/New_York:20170107T090000
DTEND;TZID=America/New_York:20170107T090000
DTSTAMP:20161201T002654Z
URL:https://pbslds.org/events/the-charles-i-brown-celebration-celebratory-
 mass/
SUMMARY:The Charles I. Brown Celebration | Celebratory Mass
DESCRIPTION:Celebratory Mass on the life of Hon. Charles I. Brown
CATEGORIES:PBS International Events
LOCATION:Cathedral Basilica of Saints Peter and Paul\, 1723 Race Street\, P
 hiladelphia\, PA\, 19103\, United States
GEO:39.9569451;-75.16829189999999
X-APPLE-STRUCTURED-LOCATION;VALUE=URI;X-ADDRESS=1723 Race Street\, Philadel
 phia\, PA\, 19103\, United States;X-APPLE-RADIUS=100;X-TITLE=Cathedral Bas
 ilica of Saints Peter and Paul:geo:39.9569451,-75.16829189999999
END:VEVENT
BEGIN:VTIMEZONE
TZID:America/New_York
X-LIC-LOCATION:America/New_York
BEGIN:STANDARD
DTSTART:20161106T010000
TZOFFSETFROM:-0400
TZOFFSETTO:-0500
TZNAME:EST
END:STANDARD
END:VTIMEZONE
END:VCALENDAR