BEGIN:VCALENDAR
VERSION:2.0
PRODID:-//wp-events-plugin.com//7.2.3.1//EN
TZID:America/New_York
X-WR-TIMEZONE:America/New_York
BEGIN:VEVENT
UID:569@pbslds.org
DTSTART;TZID=America/New_York:20230621T183000
DTEND;TZID=America/New_York:20230621T200000
DTSTAMP:20230619T041629Z
URL:https://pbslds.org/events/tentative-date-sigma-scholars-celebration-20
 23/
SUMMARY:Sigma Scholars Celebration 2023
DESCRIPTION:\n\nPresentation of Sigma Cares and Lambda Delta Sigma Chapter 
 Scholarships
CATEGORIES:LDS Events,SCF Events
LOCATION:Route 9 Library and Innovation Center\, 3022 New Castle Ave\, New 
 Castle\, DE\, 19720\, United States
X-APPLE-STRUCTURED-LOCATION;VALUE=URI;X-ADDRESS=3022 New Castle Ave\, New C
 astle\, DE\, 19720\, United States;X-APPLE-RADIUS=100;X-TITLE=Route 9 Libr
 ary and Innovation Center:geo:0,0
END:VEVENT
BEGIN:VTIMEZONE
TZID:America/New_York
X-LIC-LOCATION:America/New_York
BEGIN:DAYLIGHT
DTSTART:20230312T030000
TZOFFSETFROM:-0500
TZOFFSETTO:-0400
TZNAME:EDT
END:DAYLIGHT
END:VTIMEZONE
END:VCALENDAR