BEGIN:VCALENDAR
VERSION:2.0
PRODID:-//wp-events-plugin.com//7.2.3.1//EN
TZID:America/New_York
X-WR-TIMEZONE:America/New_York
BEGIN:VEVENT
UID:479@pbslds.org
DTSTART;TZID=America/New_York;VALUE=DATE:20220917
DTEND;TZID=America/New_York;VALUE=DATE:20220918
DTSTAMP:20220709T210253Z
URL:https://pbslds.org/events/temple-university-homecoming/
SUMMARY:Temple University Homecoming
DESCRIPTION:
END:VEVENT
BEGIN:VTIMEZONE
TZID:America/New_York
X-LIC-LOCATION:America/New_York
BEGIN:DAYLIGHT
DTSTART:20220313T030000
TZOFFSETFROM:-0500
TZOFFSETTO:-0400
TZNAME:EDT
END:DAYLIGHT
END:VTIMEZONE
END:VCALENDAR