BEGIN:VCALENDAR
VERSION:2.0
PRODID:-//wp-events-plugin.com//7.2.3.1//EN
TZID:America/New_York
X-WR-TIMEZONE:America/New_York
BEGIN:VEVENT
UID:822@pbslds.org
DTSTART;TZID=America/New_York:20260111T084500
DTEND;TZID=America/New_York:20260111T110000
DTSTAMP:20251231T221907Z
URL:https://pbslds.org/events/sunday-praise-with-lambda-delta-sigma-bethel
 -ame/
SUMMARY:Sunday Praise with Lambda Delta Sigma @ Bethel AME
DESCRIPTION:
CATEGORIES:LDS Events
LOCATION:Bethel AME Church\, 604 N Walnut Street\, Wilmington\, DE \, 19801
 \, United States
GEO:39.7409908;-75.54706529999999
X-APPLE-STRUCTURED-LOCATION;VALUE=URI;X-ADDRESS=604 N Walnut Street\, Wilmi
 ngton\, DE \, 19801\, United States;X-APPLE-RADIUS=100;X-TITLE=Bethel AME 
 Church:geo:39.7409908,-75.54706529999999
END:VEVENT
BEGIN:VTIMEZONE
TZID:America/New_York
X-LIC-LOCATION:America/New_York
BEGIN:STANDARD
DTSTART:20251102T010000
TZOFFSETFROM:-0400
TZOFFSETTO:-0500
TZNAME:EST
END:STANDARD
END:VTIMEZONE
END:VCALENDAR