BEGIN:VCALENDAR
VERSION:2.0
PRODID:-//wp-events-plugin.com//7.2.3.1//EN
TZID:America/New_York
X-WR-TIMEZONE:America/New_York
BEGIN:VEVENT
UID:475@pbslds.org
DTSTART;TZID=America/New_York;VALUE=DATE:20220722
DTEND;TZID=America/New_York;VALUE=DATE:20220724
DTSTAMP:20220627T235812Z
URL:https://pbslds.org/events/summer-strategy-session/
SUMMARY:Summer Strategy Session
DESCRIPTION:Check Email for Relevant Info\n\n
CATEGORIES:PBS International Events
END:VEVENT
BEGIN:VTIMEZONE
TZID:America/New_York
X-LIC-LOCATION:America/New_York
BEGIN:DAYLIGHT
DTSTART:20220313T030000
TZOFFSETFROM:-0500
TZOFFSETTO:-0400
TZNAME:EDT
END:DAYLIGHT
END:VTIMEZONE
END:VCALENDAR