BEGIN:VCALENDAR
VERSION:2.0
PRODID:-//wp-events-plugin.com//7.2.3.1//EN
TZID:America/New_York
X-WR-TIMEZONE:America/New_York
BEGIN:VEVENT
UID:565@pbslds.org
DTSTART;TZID=America/New_York:20230529T093000
DTEND;TZID=America/New_York:20230529T113000
DTSTAMP:20230522T143307Z
URL:https://pbslds.org/events/stone-square-lodge-22-memorial-day-parade/
SUMMARY:Stone Square Lodge #22 Memorial Day Parade
DESCRIPTION:Please make your plan to attend. Reach out to Bro. Clayton if y
 ou need more info.\n\n&nbsp\;\n\nMeeting Point:\n\nLouis L. Redding Middle
  School\n\n201 New St\, Middletown\, DE 19709
CATEGORIES:Delaware Events
LOCATION:Louis L. Redding Middle School\, 201 New Street\, Middletown\, DE\
 , 19709\, United States
X-APPLE-STRUCTURED-LOCATION;VALUE=URI;X-ADDRESS=201 New Street\, Middletown
 \, DE\, 19709\, United States;X-APPLE-RADIUS=100;X-TITLE=Louis L. Redding 
 Middle School:geo:0,0
END:VEVENT
BEGIN:VTIMEZONE
TZID:America/New_York
X-LIC-LOCATION:America/New_York
BEGIN:DAYLIGHT
DTSTART:20230312T030000
TZOFFSETFROM:-0500
TZOFFSETTO:-0400
TZNAME:EDT
END:DAYLIGHT
END:VTIMEZONE
END:VCALENDAR