BEGIN:VCALENDAR
VERSION:2.0
PRODID:-//wp-events-plugin.com//7.2.3.1//EN
TZID:America/New_York
X-WR-TIMEZONE:America/New_York
BEGIN:VEVENT
UID:507@pbslds.org
DTSTART;TZID=America/New_York:20221210T120000
DTEND;TZID=America/New_York:20221210T130000
DTSTAMP:20221207T221046Z
URL:https://pbslds.org/events/sigmaopenhouse/
SUMMARY:"Sigma Open House"
DESCRIPTION:Questions about Membership? Here's an opportunity! Click the im
 age to register\, or reach out to vicepresident@pbslds.org\n\n\n\n&nbsp\;
CATEGORIES:LDS Events,SCF Events
END:VEVENT
BEGIN:VTIMEZONE
TZID:America/New_York
X-LIC-LOCATION:America/New_York
BEGIN:STANDARD
DTSTART:20221106T010000
TZOFFSETFROM:-0400
TZOFFSETTO:-0500
TZNAME:EST
END:STANDARD
END:VTIMEZONE
END:VCALENDAR