BEGIN:VCALENDAR
VERSION:2.0
PRODID:-//wp-events-plugin.com//7.2.3.1//EN
TZID:America/New_York
X-WR-TIMEZONE:America/New_York
BEGIN:VEVENT
UID:536@pbslds.org
DTSTART;TZID=America/New_York:20230319T100000
DTEND;TZID=America/New_York:20230319T111500
DTSTAMP:20230311T195733Z
URL:https://pbslds.org/events/sigma-sunday-observance-service/
SUMMARY:"Sigma Sunday" Observance Service
DESCRIPTION:
CATEGORIES:LDS Events
LOCATION:Bethel AME Church - Chesapeake City\, 201 2nd St\, Chesapeake City
 \, MD\, 21915\, United States
X-APPLE-STRUCTURED-LOCATION;VALUE=URI;X-ADDRESS=201 2nd St\, Chesapeake Cit
 y\, MD\, 21915\, United States;X-APPLE-RADIUS=100;X-TITLE=Bethel AME Churc
 h - Chesapeake City:geo:0,0
END:VEVENT
BEGIN:VTIMEZONE
TZID:America/New_York
X-LIC-LOCATION:America/New_York
BEGIN:DAYLIGHT
DTSTART:20230312T030000
TZOFFSETFROM:-0500
TZOFFSETTO:-0400
TZNAME:EDT
END:DAYLIGHT
END:VTIMEZONE
END:VCALENDAR