BEGIN:VCALENDAR
VERSION:2.0
PRODID:-//wp-events-plugin.com//7.2.3.1//EN
TZID:America/New_York
X-WR-TIMEZONE:America/New_York
BEGIN:VEVENT
UID:527@pbslds.org
DTSTART;TZID=America/New_York;VALUE=DATE:20230805
DTEND;TZID=America/New_York;VALUE=DATE:20230806
DTSTAMP:20230304T160635Z
URL:https://pbslds.org/events/sigma-scholarship-golf-classic-2023/
SUMMARY:Sigma Scholarship Golf Classic 2023
DESCRIPTION:
LOCATION:Heritage Shores Golf Club\, 1 Heritage Shores Drive\, Bridgeville\
 , DE\, 19933\, United States
X-APPLE-STRUCTURED-LOCATION;VALUE=URI;X-ADDRESS=1 Heritage Shores Drive\, B
 ridgeville\, DE\, 19933\, United States;X-APPLE-RADIUS=100;X-TITLE=Heritag
 e Shores Golf Club:geo:0,0
END:VEVENT
BEGIN:VTIMEZONE
TZID:America/New_York
X-LIC-LOCATION:America/New_York
BEGIN:DAYLIGHT
DTSTART:20230312T030000
TZOFFSETFROM:-0500
TZOFFSETTO:-0400
TZNAME:EDT
END:DAYLIGHT
END:VTIMEZONE
END:VCALENDAR