BEGIN:VCALENDAR
VERSION:2.0
PRODID:-//wp-events-plugin.com//7.2.3.1//EN
TZID:America/New_York
X-WR-TIMEZONE:America/New_York
BEGIN:VEVENT
UID:669@pbslds.org
DTSTART;TZID=America/New_York:20240627T183000
DTEND;TZID=America/New_York:20240627T203000
DTSTAMP:20240621T180926Z
URL:https://pbslds.org/events/sigma-scholars-end-of-year-youth-celebration
 /
SUMMARY:"Sigma Scholars" / End of Year Youth Celebration
DESCRIPTION:Updated Date and Location\n\n&nbsp\;\n\n
CATEGORIES:LDS Events,SCF Events
LOCATION:New Castle Public Library\, 424 Delaware St.\, New Castle\, DE\, 1
 9720\, United States
GEO:39.6608919;-75.5658545
X-APPLE-STRUCTURED-LOCATION;VALUE=URI;X-ADDRESS=424 Delaware St.\, New Cast
 le\, DE\, 19720\, United States;X-APPLE-RADIUS=100;X-TITLE=New Castle Publ
 ic Library:geo:39.6608919,-75.5658545
END:VEVENT
BEGIN:VTIMEZONE
TZID:America/New_York
X-LIC-LOCATION:America/New_York
BEGIN:DAYLIGHT
DTSTART:20240310T030000
TZOFFSETFROM:-0500
TZOFFSETTO:-0400
TZNAME:EDT
END:DAYLIGHT
END:VTIMEZONE
END:VCALENDAR