BEGIN:VCALENDAR
VERSION:2.0
PRODID:-//wp-events-plugin.com//7.2.3.1//EN
TZID:America/New_York
X-WR-TIMEZONE:America/New_York
BEGIN:VEVENT
UID:673@pbslds.org
DTSTART;TZID=America/New_York;VALUE=DATE:20240914
DTEND;TZID=America/New_York;VALUE=DATE:20240915
DTSTAMP:20240906T002046Z
URL:https://pbslds.org/events/sigma-retreat-3/
SUMMARY:Sigma Retreat
DESCRIPTION:
CATEGORIES:LDS Events
LOCATION:TLi Central Offices\, 5570 Kirkwood Highway\, Wilmington\, DE\, 19
 808\, United States
GEO:39.714562;-75.672861
X-APPLE-STRUCTURED-LOCATION;VALUE=URI;X-ADDRESS=5570 Kirkwood Highway\, Wil
 mington\, DE\, 19808\, United States;X-APPLE-RADIUS=100;X-TITLE=TLi Centra
 l Offices:geo:39.714562,-75.672861
END:VEVENT
BEGIN:VTIMEZONE
TZID:America/New_York
X-LIC-LOCATION:America/New_York
BEGIN:DAYLIGHT
DTSTART:20240310T030000
TZOFFSETFROM:-0500
TZOFFSETTO:-0400
TZNAME:EDT
END:DAYLIGHT
END:VTIMEZONE
END:VCALENDAR