BEGIN:VCALENDAR
VERSION:2.0
PRODID:-//wp-events-plugin.com//7.2.3.1//EN
TZID:America/New_York
X-WR-TIMEZONE:America/New_York
BEGIN:VEVENT
UID:817@pbslds.org
DTSTART;TZID=America/New_York:20251216T180000
DTEND;TZID=America/New_York:20251216T220000
DTSTAMP:20251211T162909Z
URL:https://pbslds.org/events/sigma-holiday-pop-up-return-of-the-blue-whit
 e-holiday-party/
SUMMARY:Sigma Holiday Pop Up-Return of the Blue & White Holiday Party
DESCRIPTION:Please bring an unwrapped toy to support our Cookies with Santa
  Event on 12/20
CATEGORIES:LDS Events,SCF Events
LOCATION:The Opulent Restaurant and Lounge\, 3421 Kirkwood Highway Unit A-D
 \, Wilmington\, DE\, 19808\, United States
GEO:39.736232;-75.632497
X-APPLE-STRUCTURED-LOCATION;VALUE=URI;X-ADDRESS=3421 Kirkwood Highway Unit 
 A-D\, Wilmington\, DE\, 19808\, United States;X-APPLE-RADIUS=100;X-TITLE=T
 he Opulent Restaurant and Lounge:geo:39.736232,-75.632497
END:VEVENT
BEGIN:VTIMEZONE
TZID:America/New_York
X-LIC-LOCATION:America/New_York
BEGIN:STANDARD
DTSTART:20251102T010000
TZOFFSETFROM:-0400
TZOFFSETTO:-0500
TZNAME:EST
END:STANDARD
END:VTIMEZONE
END:VCALENDAR