BEGIN:VCALENDAR
VERSION:2.0
PRODID:-//wp-events-plugin.com//7.2.3.1//EN
TZID:America/New_York
X-WR-TIMEZONE:America/New_York
BEGIN:VEVENT
UID:634@pbslds.org
DTSTART;TZID=America/New_York:20231206T180000
DTEND;TZID=America/New_York:20231206T200000
DTSTAMP:20231204T161024Z
URL:https://pbslds.org/events/sigma-days-at-gbc-mens-basketball-vs-lincoln
 /
SUMMARY:"Sigma Days at GBC:" Men's Basketball vs. Lincoln
DESCRIPTION:\n\nBrothers\, wear your "Frat Gear" and join us!
CATEGORIES:Delaware Events,KH Events,LDS Events
LOCATION:Goldey-Beacom College\, 4701 Limestone Road\, Wilmington\, DE\, 19
 808\, United States
X-APPLE-STRUCTURED-LOCATION;VALUE=URI;X-ADDRESS=4701 Limestone Road\, Wilmi
 ngton\, DE\, 19808\, United States;X-APPLE-RADIUS=100;X-TITLE=Goldey-Beaco
 m College:geo:0,0
END:VEVENT
BEGIN:VTIMEZONE
TZID:America/New_York
X-LIC-LOCATION:America/New_York
BEGIN:STANDARD
DTSTART:20231105T010000
TZOFFSETFROM:-0400
TZOFFSETTO:-0500
TZNAME:EST
END:STANDARD
END:VTIMEZONE
END:VCALENDAR