BEGIN:VCALENDAR
VERSION:2.0
PRODID:-//wp-events-plugin.com//7.2.3.1//EN
TZID:America/New_York
X-WR-TIMEZONE:America/New_York
BEGIN:VEVENT
UID:574@pbslds.org
DTSTART;TZID=America/New_York:20230907T200000
DTEND;TZID=America/New_York:20230907T220000
DTSTAMP:20230601T184926Z
URL:https://pbslds.org/events/sigma-cares-foundation-board-meeting-2023-09
 -07/
SUMMARY:Sigma Cares Foundation Board Meeting
DESCRIPTION:Please reach out to Bro. Reeves for Zoom information!
CATEGORIES:SCF Board Meetings
END:VEVENT
BEGIN:VTIMEZONE
TZID:America/New_York
X-LIC-LOCATION:America/New_York
BEGIN:DAYLIGHT
DTSTART:20230312T030000
TZOFFSETFROM:-0500
TZOFFSETTO:-0400
TZNAME:EDT
END:DAYLIGHT
END:VTIMEZONE
END:VCALENDAR