BEGIN:VCALENDAR
VERSION:2.0
PRODID:-//wp-events-plugin.com//7.2.3.1//EN
TZID:America/New_York
X-WR-TIMEZONE:America/New_York
BEGIN:VEVENT
UID:823@pbslds.org
DTSTART;TZID=America/New_York:20260110T100000
DTEND;TZID=America/New_York:20260110T140000
DTSTAMP:20251231T221528Z
URL:https://pbslds.org/events/sigma-beta-club-training-outing/
SUMMARY:Sigma Beta Club Training/Outing
DESCRIPTION:
CATEGORIES:LDS Events,SBC Meeting
END:VEVENT
BEGIN:VTIMEZONE
TZID:America/New_York
X-LIC-LOCATION:America/New_York
BEGIN:STANDARD
DTSTART:20251102T010000
TZOFFSETFROM:-0400
TZOFFSETTO:-0500
TZNAME:EST
END:STANDARD
END:VTIMEZONE
END:VCALENDAR