BEGIN:VCALENDAR
VERSION:2.0
PRODID:-//wp-events-plugin.com//7.2.3.1//EN
TZID:America/New_York
X-WR-TIMEZONE:America/New_York
BEGIN:VEVENT
UID:151@pbslds.org
DTSTART;TZID=America/New_York:20160227T123000
DTEND;TZID=America/New_York:20160227T163000
DTSTAMP:20160217T220106Z
URL:https://pbslds.org/events/sigma-beta-club-basketball-game/
SUMMARY:Sigma Beta Club Basketball Game
DESCRIPTION:Basketball game at the University of Delaware\n\nGame time is 2
 :00 PM\n\nMeet at 12:30 PM (location provided to Mentors and Families)
CATEGORIES:LDS Events
END:VEVENT
BEGIN:VTIMEZONE
TZID:America/New_York
X-LIC-LOCATION:America/New_York
BEGIN:STANDARD
DTSTART:20151101T010000
TZOFFSETFROM:-0400
TZOFFSETTO:-0500
TZNAME:EST
END:STANDARD
END:VTIMEZONE
END:VCALENDAR