BEGIN:VCALENDAR
VERSION:2.0
PRODID:-//wp-events-plugin.com//7.2.3.1//EN
TZID:America/New_York
X-WR-TIMEZONE:America/New_York
BEGIN:VEVENT
UID:499@pbslds.org
DTSTART;TZID=America/New_York:20221111T130000
DTEND;TZID=America/New_York:20221111T160000
DTSTAMP:20221010T030045Z
URL:https://pbslds.org/events/service-project-at-sunday-breakfast-mission/
SUMMARY:Service Project at Sunday Breakfast Mission
DESCRIPTION:Meal Packing
CATEGORIES:LDS Events
LOCATION:Sunday Breakfast Mission\, 110 N. Poplar Street\, Wilmington\, DE\
 , 19801\, United States
GEO:39.736791;-75.54798340000002
X-APPLE-STRUCTURED-LOCATION;VALUE=URI;X-ADDRESS=110 N. Poplar Street\, Wilm
 ington\, DE\, 19801\, United States;X-APPLE-RADIUS=100;X-TITLE=Sunday Brea
 kfast Mission:geo:39.736791,-75.54798340000002
END:VEVENT
BEGIN:VTIMEZONE
TZID:America/New_York
X-LIC-LOCATION:America/New_York
BEGIN:STANDARD
DTSTART:20221106T010000
TZOFFSETFROM:-0400
TZOFFSETTO:-0500
TZNAME:EST
END:STANDARD
END:VTIMEZONE
END:VCALENDAR