BEGIN:VCALENDAR
VERSION:2.0
PRODID:-//wp-events-plugin.com//7.2.3.1//EN
TZID:America/New_York
X-WR-TIMEZONE:America/New_York
BEGIN:VEVENT
UID:131@pbslds.org
DTSTART;TZID=America/New_York;VALUE=DATE:20160707
DTEND;TZID=America/New_York;VALUE=DATE:20160711
DTSTAMP:20160119T014954Z
URL:https://pbslds.org/events/serious-%cf%83-summit/
SUMMARY:Serious Σ Summit
DESCRIPTION:For more information\, visit the Serious Σ Summit website.
CATEGORIES:Events,PBS International Events
LOCATION:The Gaylord Palms Resort & Convention Center\, 6000 W Osceola Pkwy
 \, Kissimmee\, FL\, 34746\, United States
GEO:28.342395;-81.52697690000002
X-APPLE-STRUCTURED-LOCATION;VALUE=URI;X-ADDRESS=6000 W Osceola Pkwy\, Kissi
 mmee\, FL\, 34746\, United States;X-APPLE-RADIUS=100;X-TITLE=The Gaylord P
 alms Resort & Convention Center:geo:28.342395,-81.52697690000002
END:VEVENT
BEGIN:VTIMEZONE
TZID:America/New_York
X-LIC-LOCATION:America/New_York
BEGIN:DAYLIGHT
DTSTART:20160313T030000
TZOFFSETFROM:-0500
TZOFFSETTO:-0400
TZNAME:EDT
END:DAYLIGHT
END:VTIMEZONE
END:VCALENDAR