BEGIN:VCALENDAR
VERSION:2.0
PRODID:-//wp-events-plugin.com//7.2.3.1//EN
TZID:America/New_York
X-WR-TIMEZONE:America/New_York
BEGIN:VEVENT
UID:489@pbslds.org
DTSTART;TZID=America/New_York:20220915T163000
DTEND;TZID=America/New_York:20220915T193000
DTSTAMP:20220909T215228Z
URL:https://pbslds.org/events/school-supply-drove-happy-hour-zeta-epz/
SUMMARY:School Supply Drive/Happy Hour (Zeta-EPZ)
DESCRIPTION:See below for flyer\n\n
CATEGORIES:EPZ Events
LOCATION:Taco Grande\, 600 Justison St\, Wilmington\, DE\, 19801\, United S
 tates
X-APPLE-STRUCTURED-LOCATION;VALUE=URI;X-ADDRESS=600 Justison St\, Wilmingto
 n\, DE\, 19801\, United States;X-APPLE-RADIUS=100;X-TITLE=Taco Grande:geo:
 0,0
END:VEVENT
BEGIN:VTIMEZONE
TZID:America/New_York
X-LIC-LOCATION:America/New_York
BEGIN:DAYLIGHT
DTSTART:20220313T030000
TZOFFSETFROM:-0500
TZOFFSETTO:-0400
TZNAME:EDT
END:DAYLIGHT
END:VTIMEZONE
END:VCALENDAR