BEGIN:VCALENDAR
VERSION:2.0
PRODID:-//wp-events-plugin.com//7.2.3.1//EN
TZID:America/New_York
X-WR-TIMEZONE:America/New_York
BEGIN:VEVENT
UID:621@pbslds.org
DTSTART;TZID=America/New_York:20231011T190000
DTEND;TZID=America/New_York:20231011T210000
DTSTAMP:20231010T141742Z
URL:https://pbslds.org/events/school-board-education-101-delta-gamma-sigma
 -chapter/
SUMMARY:School Board Education 101 (Delta Gamma Sigma Chapter)
DESCRIPTION:
CATEGORIES:Delaware Events,Visiting Sigma Chapter Events
END:VEVENT
BEGIN:VTIMEZONE
TZID:America/New_York
X-LIC-LOCATION:America/New_York
BEGIN:DAYLIGHT
DTSTART:20230312T030000
TZOFFSETFROM:-0500
TZOFFSETTO:-0400
TZNAME:EDT
END:DAYLIGHT
END:VTIMEZONE
END:VCALENDAR