BEGIN:VCALENDAR
VERSION:2.0
PRODID:-//wp-events-plugin.com//7.2.3.1//EN
TZID:America/New_York
X-WR-TIMEZONE:America/New_York
BEGIN:VEVENT
UID:471@pbslds.org
DTSTART;TZID=America/New_York:20220622T183000
DTEND;TZID=America/New_York:20220622T200000
DTSTAMP:20220607T182358Z
URL:https://pbslds.org/events/scholars/
SUMMARY:Sigma Beta Induction and "Sigma Scholars" Ceremony
DESCRIPTION:PLEASE CLICK THE FLYER TO RSVP. THIS EVENT IS TAKING PLACE AT T
 HE ROUTE 9 LIBRARY AND INNOVATION CENTER IN NEW CASTLE.\n\nSIGMA BETA CLUB
  MEMBERS INDUCTION WILL TAKE PLACE AT 6:30 PM\n\nSCHOLARSHIP CEREMONY WILL
  TAKE PLACE AT 7:15 PM\n\nBROTHERS: PLEASE ARRIVE NO LATER THAN 6PM.\n\n
CATEGORIES:LDS Events,SCF Events
LOCATION:Route 9 Library and Innovation Center\, 3022 New Castle Ave\, New 
 Castle\, DE\, 19720\, United States
X-APPLE-STRUCTURED-LOCATION;VALUE=URI;X-ADDRESS=3022 New Castle Ave\, New C
 astle\, DE\, 19720\, United States;X-APPLE-RADIUS=100;X-TITLE=Route 9 Libr
 ary and Innovation Center:geo:0,0
END:VEVENT
BEGIN:VTIMEZONE
TZID:America/New_York
X-LIC-LOCATION:America/New_York
BEGIN:DAYLIGHT
DTSTART:20220313T030000
TZOFFSETFROM:-0500
TZOFFSETTO:-0400
TZNAME:EDT
END:DAYLIGHT
END:VTIMEZONE
END:VCALENDAR