BEGIN:VCALENDAR
VERSION:2.0
PRODID:-//wp-events-plugin.com//7.2.3.1//EN
TZID:America/New_York
X-WR-TIMEZONE:America/New_York
BEGIN:VEVENT
UID:672@pbslds.org
DTSTART;TZID=America/New_York:20240821T170000
DTEND;TZID=America/New_York:20240821T200000
DTSTAMP:20240819T190230Z
URL:https://pbslds.org/events/scf-lds-back-to-school-event/
SUMMARY:SCF/LDS Back to School Event
DESCRIPTION:RSVP HERE (Zeffy)\n\n\n&nbsp\;
CATEGORIES:LDS Events,SCF Events
LOCATION:Sunset Station Shopping Center\, 1857 Pulaski Highway\, Bear\, DE\
 , United States
GEO:39.611055;-75.707471
X-APPLE-STRUCTURED-LOCATION;VALUE=URI;X-ADDRESS=1857 Pulaski Highway\, Bear
 \, DE\, United States;X-APPLE-RADIUS=100;X-TITLE=Sunset Station Shopping C
 enter:geo:39.611055,-75.707471
END:VEVENT
BEGIN:VTIMEZONE
TZID:America/New_York
X-LIC-LOCATION:America/New_York
BEGIN:DAYLIGHT
DTSTART:20240310T030000
TZOFFSETFROM:-0500
TZOFFSETTO:-0400
TZNAME:EDT
END:DAYLIGHT
END:VTIMEZONE
END:VCALENDAR