BEGIN:VCALENDAR
VERSION:2.0
PRODID:-//wp-events-plugin.com//7.2.3.1//EN
TZID:America/New_York
X-WR-TIMEZONE:America/New_York
BEGIN:VEVENT
UID:476@pbslds.org
DTSTART;TZID=America/New_York:20220726T170000
DTEND;TZID=America/New_York:20220726T210000
DTSTAMP:20220719T014345Z
URL:https://pbslds.org/events/save-the-date-sigma-cares-pop-up/
SUMMARY:Sigma Cares Back to School "Pop-Up"
DESCRIPTION:No Cover: Please bring a School Supply Donation\n\n
CATEGORIES:LDS Events,SCF Events
LOCATION:Salina's Restaurant\, 1847 Pulaski Highway\, Bear\, DE\, 19701\, U
 nited States
X-APPLE-STRUCTURED-LOCATION;VALUE=URI;X-ADDRESS=1847 Pulaski Highway\, Bear
 \, DE\, 19701\, United States;X-APPLE-RADIUS=100;X-TITLE=Salina's Restaura
 nt:geo:0,0
END:VEVENT
BEGIN:VTIMEZONE
TZID:America/New_York
X-LIC-LOCATION:America/New_York
BEGIN:DAYLIGHT
DTSTART:20220313T030000
TZOFFSETFROM:-0500
TZOFFSETTO:-0400
TZNAME:EDT
END:DAYLIGHT
END:VTIMEZONE
END:VCALENDAR