BEGIN:VCALENDAR
VERSION:2.0
PRODID:-//wp-events-plugin.com//7.2.3.1//EN
TZID:America/New_York
X-WR-TIMEZONE:America/New_York
BEGIN:VEVENT
UID:568@pbslds.org
DTSTART;TZID=America/New_York:20230729T230000
DTEND;TZID=America/New_York:20230730T030000
DTSTAMP:20230703T032115Z
URL:https://pbslds.org/events/save-the-date-blue-and-white-boatride-2023/
SUMMARY:Tri-State Blue and White Boatride 2023
DESCRIPTION:For information and tickets\, please visit sigmaboatride.com or
  click the flyer below.\n\n
CATEGORIES:Delaware Events,PBS Eastern Region Events,Visiting Sigma
 Chapter Events
LOCATION:Spirit of Philadelphia\,  401 S Christopher Columbus Blvd\, Philad
 \, PA\, 19106\, United States
X-APPLE-STRUCTURED-LOCATION;VALUE=URI;X-ADDRESS= 401 S Christopher Columbus
  Blvd\, Philad\, PA\, 19106\, United States;X-APPLE-RADIUS=100;X-TITLE=Spi
 rit of Philadelphia:geo:0,0
END:VEVENT
BEGIN:VTIMEZONE
TZID:America/New_York
X-LIC-LOCATION:America/New_York
BEGIN:DAYLIGHT
DTSTART:20230312T030000
TZOFFSETFROM:-0500
TZOFFSETTO:-0400
TZNAME:EDT
END:DAYLIGHT
END:VTIMEZONE
END:VCALENDAR