BEGIN:VCALENDAR
VERSION:2.0
PRODID:-//wp-events-plugin.com//7.2.3.1//EN
TZID:America/New_York
X-WR-TIMEZONE:America/New_York
BEGIN:VEVENT
UID:615@pbslds.org
DTSTART;TZID=America/New_York:20231028T200000
DTEND;TZID=America/New_York:20231028T234500
DTSTAMP:20230929T104828Z
URL:https://pbslds.org/events/pi-gamma-sigma-chapters-costume-cabaret/
SUMMARY:Pi Gamma Sigma Chapter's Costume Cabaret
DESCRIPTION:Click the image to access tickets ($30).\n
CATEGORIES:Visiting Sigma Chapter Events
LOCATION:St. Raymond's Hall\, 7940 Williams Avenue\, Philadelphia\, PA\, 19
 150\, United States
X-APPLE-STRUCTURED-LOCATION;VALUE=URI;X-ADDRESS=7940 Williams Avenue\, Phil
 adelphia\, PA\, 19150\, United States;X-APPLE-RADIUS=100;X-TITLE=St. Raymo
 nd's Hall:geo:0,0
END:VEVENT
BEGIN:VTIMEZONE
TZID:America/New_York
X-LIC-LOCATION:America/New_York
BEGIN:DAYLIGHT
DTSTART:20230312T030000
TZOFFSETFROM:-0500
TZOFFSETTO:-0400
TZNAME:EDT
END:DAYLIGHT
END:VTIMEZONE
END:VCALENDAR