BEGIN:VCALENDAR
VERSION:2.0
PRODID:-//wp-events-plugin.com//7.2.3.1//EN
TZID:America/New_York
X-WR-TIMEZONE:America/New_York
BEGIN:VEVENT
UID:525@pbslds.org
DTSTART;TZID=America/New_York:20230311T200000
DTEND;TZID=America/New_York:20230312T000000
DTSTAMP:20230116T135130Z
URL:https://pbslds.org/events/pi-gamma-sigma-chapter-10th-anniversary-gala
 /
SUMMARY:Pi Gamma Sigma Chapter 10th Anniversary Gala
DESCRIPTION:
CATEGORIES:PBS Eastern Region Events
LOCATION:Southhampton Ballroom\, 2890 Southhampton Road\, Philadelphia\, PA
 \, 19154\, United States
X-APPLE-STRUCTURED-LOCATION;VALUE=URI;X-ADDRESS=2890 Southhampton Road\, Ph
 iladelphia\, PA\, 19154\, United States;X-APPLE-RADIUS=100;X-TITLE=Southha
 mpton Ballroom:geo:0,0
END:VEVENT
BEGIN:VTIMEZONE
TZID:America/New_York
X-LIC-LOCATION:America/New_York
BEGIN:STANDARD
DTSTART:20221106T010000
TZOFFSETFROM:-0400
TZOFFSETTO:-0500
TZNAME:EST
END:STANDARD
END:VTIMEZONE
END:VCALENDAR